BEGIN:VCALENDAR
VERSION:2.0
PRODID:-//Bridge Street Development Corporation - ECPv6.15.20//NONSGML v1.0//EN
CALSCALE:GREGORIAN
METHOD:PUBLISH
X-WR-CALNAME:Bridge Street Development Corporation
X-ORIGINAL-URL:https://www.bsdcorp.org
X-WR-CALDESC:Events for Bridge Street Development Corporation
REFRESH-INTERVAL;VALUE=DURATION:PT1H
X-Robots-Tag:noindex
X-PUBLISHED-TTL:PT1H
BEGIN:VTIMEZONE
TZID:America/Halifax
BEGIN:DAYLIGHT
TZOFFSETFROM:-0400
TZOFFSETTO:-0300
TZNAME:ADT
DTSTART:20230312T060000
END:DAYLIGHT
BEGIN:STANDARD
TZOFFSETFROM:-0300
TZOFFSETTO:-0400
TZNAME:AST
DTSTART:20231105T050000
END:STANDARD
BEGIN:DAYLIGHT
TZOFFSETFROM:-0400
TZOFFSETTO:-0300
TZNAME:ADT
DTSTART:20240310T060000
END:DAYLIGHT
BEGIN:STANDARD
TZOFFSETFROM:-0300
TZOFFSETTO:-0400
TZNAME:AST
DTSTART:20241103T050000
END:STANDARD
BEGIN:DAYLIGHT
TZOFFSETFROM:-0400
TZOFFSETTO:-0300
TZNAME:ADT
DTSTART:20250309T060000
END:DAYLIGHT
BEGIN:STANDARD
TZOFFSETFROM:-0300
TZOFFSETTO:-0400
TZNAME:AST
DTSTART:20251102T050000
END:STANDARD
BEGIN:DAYLIGHT
TZOFFSETFROM:-0400
TZOFFSETTO:-0300
TZNAME:ADT
DTSTART:20260308T060000
END:DAYLIGHT
BEGIN:STANDARD
TZOFFSETFROM:-0300
TZOFFSETTO:-0400
TZNAME:AST
DTSTART:20261101T050000
END:STANDARD
END:VTIMEZONE
BEGIN:VEVENT
DTSTART;TZID=America/Halifax:20250918T180000
DTEND;TZID=America/Halifax:20250918T210000
DTSTAMP:20260422T020815
CREATED:20250719T163059Z
LAST-MODIFIED:20250813T012946Z
UID:3579-1758218400-1758229200@www.bsdcorp.org
SUMMARY:Bridge Street's 30th Anniversary Gala
DESCRIPTION:We are thrilled to invite you to join us in celebrating Bridge Street Development Corporation’s 30 years of service to Bedford-Stuyvesant and Central Brooklyn at our 30th Anniversary Fundraising Gala! \nVisit our event page for more information about the Gala. \n\nOther Ways to Support Bridge Street Development Corp.\nIf you are unable to attend\, but would like to make a donation\, please click here. \nTo advertise in our commemorative journal\, click here.
URL:https://www.bsdcorp.org/event/bridge-streets-30th-anniversary-gala/
LOCATION:Industry City\, 5-2-A 35th Street Floor 2R\, Brooklyn\, NY\, 11232\, United States
ATTACH;FMTTYPE=image/webp:https://www.bsdcorp.org/wp-content/uploads/2025/07/bsdc-gala-event-poster-4x3-1.webp
ORGANIZER;CN="Bridge Street Development Corporation":MAILTO:info@bsdcorp.org
END:VEVENT
BEGIN:VEVENT
DTSTART;TZID=America/Halifax:20241023T183000
DTEND;TZID=America/Halifax:20241023T203000
DTSTAMP:20260422T020815
CREATED:20240920T044743Z
LAST-MODIFIED:20240925T145651Z
UID:2667-1729708200-1729715400@www.bsdcorp.org
SUMMARY:MWBE Certification Website
DESCRIPTION:Join us on October 23rd from 6:30 PM to 8:30 PM for a MWBE Certification Workshop! This session\, held in partnership with the Family Enrichment Center / Brooklyn NEST and NYC Small Business Services\, will guide small business owners and organizations through the process of obtaining their Minority and Women-Owned Business Enterprise (MWBE) certification. \nThis certification is essential for expanding business opportunities\, particularly in government contracts\, allowing businesses to access resources\, training\, and networking opportunities that can help them grow. Learn how MWBE certification can provide your business with a competitive edge and open doors to new funding and partnership opportunities! \nFor more information please contact Annastesia Harris at aharris@bsdcorp.org .
URL:https://www.bsdcorp.org/event/mwbe-certification-website/
LOCATION:Family Enrichment Center | Bed-Stuy NEST\, 410 Nostrand Ave\, Brooklyn\, NY\, 11216\, United States
ORGANIZER;CN="Bridge Street Development Corporation":MAILTO:info@bsdcorp.org
END:VEVENT
BEGIN:VEVENT
DTSTART;TZID=America/Halifax:20241016T120000
DTEND;TZID=America/Halifax:20241016T130000
DTSTAMP:20260422T020815
CREATED:20240920T044023Z
LAST-MODIFIED:20240925T145734Z
UID:2665-1729080000-1729083600@www.bsdcorp.org
SUMMARY:Virtual Lunch & Learn with Link NYC
DESCRIPTION:Learn to use LinkLocal’s free advertising to increase revenue and visibility for your business. \nSpace is limited\, please register as soon as possible with the link below:\nRegister Here \n 
URL:https://www.bsdcorp.org/event/virtual-lunch-learn-with-link-nyc/
LOCATION:NY
END:VEVENT
BEGIN:VEVENT
DTSTART;TZID=America/Halifax:20241009T120000
DTEND;TZID=America/Halifax:20241009T140000
DTSTAMP:20260422T020815
CREATED:20240920T041840Z
LAST-MODIFIED:20240925T145818Z
UID:2663-1728475200-1728482400@www.bsdcorp.org
SUMMARY:Quincy Senior Residence Older Adult Salsa
DESCRIPTION:Join Bridge Street’s Quincy Senior Residence for an enjoyable older adult salsa class on October 9th from 12 PM to 2 PM—come dance\, connect\, and have fun! \n 
URL:https://www.bsdcorp.org/event/quincy-senior-residence-older-adult-salsa/
LOCATION:Quincy Senior Residencies\, 625 Quincy Street\, Brooklyn\, NY\, 11221\, United States
ORGANIZER;CN="Bridge Street Development Corporation":MAILTO:info@bsdcorp.org
END:VEVENT
BEGIN:VEVENT
DTSTART;TZID=America/Halifax:20240926T120000
DTEND;TZID=America/Halifax:20240926T150000
DTSTAMP:20260422T020815
CREATED:20240920T035425Z
LAST-MODIFIED:20240925T145857Z
UID:2650-1727352000-1727362800@www.bsdcorp.org
SUMMARY:Hispanic Heritage Month Celebration
DESCRIPTION:Join us and My Home Adult Day Care in celebrating Hispanic Heritage Month! \nWe’ll be at 511 Evergreen Ave from 12Pm to 3Pm. There will be refreshments\, alongside entertainment and fun activities. \n 
URL:https://www.bsdcorp.org/event/hispanic-heritage-month-celebration/
LOCATION:My Home Adult Day Care\, 511 Evergreen Avenue\, Brooklyn\, NY\, 11221\, United States
END:VEVENT
BEGIN:VEVENT
DTSTART;TZID=America/Halifax:20240916T180000
DTEND;TZID=America/Halifax:20240916T210000
DTSTAMP:20260422T020815
CREATED:20240920T041128Z
LAST-MODIFIED:20240925T145939Z
UID:2658-1726509600-1726520400@www.bsdcorp.org
SUMMARY:SYEP Worksite Appreciation and Tech Support
DESCRIPTION:To express our heartfelt appreciation to the worksite staff for their invaluable contributions over the summer. Join us for a relaxed evening featuring small bites\, appetizers\, and a cash bar as we celebrate our collaboration.\nDuring the event\, we are excited to introduce our 365 Technical Assistance Program. This comprehensive service is designed to support brick-and-mortar\, online\, and home-based businesses in Bedford-Stuyvesant.\nOur program offers assistance with:\n\nLoans and Grants\nPASSPort Account Setup\nBusiness Planning\nCertificate Authority Filing\nEmergency Response\nM/WBE Certification\nNYC Vendor Account Setup\nPublic Advocacy\nAll Business Certifications\n\nBridge Street is committed to helping businesses thrive. If you’d like to schedule a meeting to explore how our program can benefit your business\, please contact Ashley Washington at 718-399-0146 ext. 215 or awashington@bsdcorp.org.
URL:https://www.bsdcorp.org/event/syep-worksite-appreciation-and-tech-support/
LOCATION:Brooklyn Residency\, 346 Malcolm X Blvd\, Brooklyn\, NY\, 11233\, United States
END:VEVENT
BEGIN:VEVENT
DTSTART;TZID=America/Halifax:20240913T170000
DTEND;TZID=America/Halifax:20240913T200000
DTSTAMP:20260422T020815
CREATED:20240920T040511Z
LAST-MODIFIED:20240925T150039Z
UID:2654-1726246800-1726257600@www.bsdcorp.org
SUMMARY:Quincy Senior Residence\, Movie Night
DESCRIPTION:Join us for our monthly movie night at Quincy Senior Residents! \nWe start at 5pm. Some refreshments will be served. \n 
URL:https://www.bsdcorp.org/event/quincy-senior-residence-movie-night/
LOCATION:Quincy Senior Residencies\, 625 Quincy Street\, Brooklyn\, NY\, 11221\, United States
ORGANIZER;CN="Bridge Street Development Corporation":MAILTO:info@bsdcorp.org
END:VEVENT
BEGIN:VEVENT
DTSTART;TZID=America/Halifax:20240824T110000
DTEND;TZID=America/Halifax:20240824T180000
DTSTAMP:20260422T020815
CREATED:20240920T033929Z
LAST-MODIFIED:20240925T150119Z
UID:2639-1724497200-1724522400@www.bsdcorp.org
SUMMARY:Emblem Health\, "Back to School" Block Party
DESCRIPTION:Join us Saturday\, August 24th with Senator Zellnor Marie and Emblem Health for their 5th Annual\, Back to School Block Party.
URL:https://www.bsdcorp.org/event/emblem-health-back-to-school-block-party/
LOCATION:NY
END:VEVENT
BEGIN:VEVENT
DTSTART;TZID=America/Halifax:20240602T120000
DTEND;TZID=America/Halifax:20240602T180000
DTSTAMP:20260422T020815
CREATED:20240531T022858Z
LAST-MODIFIED:20240925T145441Z
UID:1449-1717329600-1717351200@www.bsdcorp.org
SUMMARY:TAMA Open Streets: Kick Off!
DESCRIPTION:Join us for the lively Tompkins Avenue Open Streets event\, a true celebration of our Brooklyn community and the kick off to our 2024 summer season! Enjoy a traffic-free Tompkins Avenue filled with local vendors\, live music\, wellness activities\, and fun for the whole family. Each week\, we’ll feature local artists\, DJs\, and more. Come connect with neighbors and experience the vibrant spirit of our neighborhood.
URL:https://www.bsdcorp.org/event/tama-open-streets-kick-off/
LOCATION:NY
ORGANIZER;CN="Bridge Street Development Corporation":MAILTO:info@bsdcorp.org
END:VEVENT
BEGIN:VEVENT
DTSTART;TZID=America/Halifax:20240601T170000
DTEND;TZID=America/Halifax:20240601T220000
DTSTAMP:20260422T020815
CREATED:20240525T120524Z
LAST-MODIFIED:20240925T145531Z
UID:1313-1717261200-1717279200@www.bsdcorp.org
SUMMARY:MYBASE Gala: 10th Year Anniversary
DESCRIPTION:For the past 10 years\, Bridge Street Development Corporation has implemented a successful teen civic engagement volunteer program MYBASE (Motivated Youth Building All Self-Empowerment). MYBASE has introduced hundreds of Bedford Stuyvesant/Central Brooklyn young adults 14 – 18 years old to leadership development\, civic engagement\, internship\, and community services experience.  They have learned first-hand about local politics by annually attending the NYSBPRAL Caucus Youth Summit\, voter education through participatory budgeting and supported our local elected officials at community events.  Many MYBASE alumni are currently working for City Agencies\, Community Based Organizations\, pursuing their education or careers in social justice/development. \nThis year proudly marks the 10th Anniversary of MYBASE serving the Bedford Stuyvesant/Crown Heights neighborhoods. To celebrate this auspicious occasion\, we are hosting an Anniversary Gala and would very much like for you to attend and be a part of our celebration! In addition to recognizing our Alumni\, we will also honor the current MYBASE cohort of 20 young people who have participated faithfully this year.
URL:https://www.bsdcorp.org/event/mybase_10thyear_anniversary_gala/
LOCATION:The Brooklyn Bank\, 896 Dekalb Ave\,\, Brooklyn\, NY\, 11221\, United States
ORGANIZER;CN="Bridge Street Development Corporation":MAILTO:info@bsdcorp.org
END:VEVENT
BEGIN:VEVENT
DTSTART;TZID=America/Halifax:20240531T140000
DTEND;TZID=America/Halifax:20240531T170000
DTSTAMP:20260422T020815
CREATED:20240525T120609Z
LAST-MODIFIED:20240925T145606Z
UID:1318-1717164000-1717174800@www.bsdcorp.org
SUMMARY:Civic Engagement Workshop
DESCRIPTION:Bridge Street\, in partnership with the NYC Civic Engagement Commission (CEC)\, is excited to bring this series of workshops to our local residents. These sessions are designed to empower you with the knowledge and tools necessary to actively participate in the current participatory budget\, understand the voting process and work with your local officials. Your involvement is crucial in shaping the future of our community.
URL:https://www.bsdcorp.org/event/civic_engagement_workshop/
LOCATION:Family Enrichment Center | Bed-Stuy NEST\, 410 Nostrand Ave\, Brooklyn\, NY\, 11216\, United States
ORGANIZER;CN="Bridge Street Development Corporation":MAILTO:info@bsdcorp.org
END:VEVENT
END:VCALENDAR